BEGIN:VCALENDAR
VERSION:2.0
PRODID:iheid
X-WR-TIMEZONE:Europe/Zurich
BEGIN:VTIMEZONE
TZID:Europe/Zurich
X-LIC-LOCATION:Europe/Zurich
END:VTIMEZONE
BEGIN:VEVENT
UID:69e8b15c4bafc
DTSTART:20220512T110000Z
SEQUENCE:0
TRANSP:OPAQUE
DTEND:20220512T120000Z
URL:https://zoom.us/webinar/register/WN_2bLF8LG7TXGb3dnGYFn7wA
LOCATION:No location specified
SUMMARY:ESG Regulation - What Impact on Sustainable Finance?
CLASS:PUBLIC
DESCRIPTION:ESG Regulation - What Impact on Sustainable Finance? by Nathan 
 Sussman\, Dawid Bastiat-Jarosz\, Beatrice Weder Di Mauro\, Christoph Bauma
 nn.\n\n\n\nEvent connection: https://zoom.us/webinar/register/WN_2bLF8LG7T
 XGb3dnGYFn7wA
DTSTAMP:20260422T133036Z
END:VEVENT
END:VCALENDAR