BEGIN:VCALENDAR
VERSION:2.0
PRODID:iheid
X-WR-TIMEZONE:Europe/Zurich
BEGIN:VTIMEZONE
TZID:Europe/Zurich
X-LIC-LOCATION:Europe/Zurich
END:VTIMEZONE
BEGIN:VEVENT
UID:69e8d61610bcc
DTSTART:20220428T063000Z
SEQUENCE:0
TRANSP:OPAQUE
DTEND:20220428T073000Z
LOCATION:Petal 3\, Maison de la paix
SUMMARY:Geneva SDG Community Coffee
CLASS:PUBLIC
DESCRIPTION:Geneva SDG Community Coffee by various\, see programme.\n\n\n\n
 Event connection: 
DTSTAMP:20260422T160718Z
END:VEVENT
END:VCALENDAR