BEGIN:VCALENDAR
VERSION:2.0
PRODID:iheid
X-WR-TIMEZONE:Europe/Zurich
BEGIN:VTIMEZONE
TZID:Europe/Zurich
X-LIC-LOCATION:Europe/Zurich
END:VTIMEZONE
BEGIN:VEVENT
UID:69e546c0686f4
DTSTART:20220504T101500Z
SEQUENCE:0
TRANSP:OPAQUE
DTEND:20220504T120000Z
URL:https://iheid.webex.com/wbxmjs/joinservice/sites/iheid/meeting/download
 /15f1e2e4fdab4fe7b3b4c213c6f30e91?siteurl=iheid&MTID=m4823c58fd0789c181136
 9bf85ea0104f
LOCATION:Room P2-S5 and Online
SUMMARY:A conversation on the future of international order and disorder
CLASS:PUBLIC
DESCRIPTION:A conversation on the future of international order and disorde
 r by .\n\n\n\nEvent connection: https://iheid.webex.com/wbxmjs/joinservice
 /sites/iheid/meeting/download/15f1e2e4fdab4fe7b3b4c213c6f30e91?siteurl=ihe
 id&amp\;MTID=m4823c58fd0789c1811369bf85ea0104f
DTSTAMP:20260419T231856Z
END:VEVENT
END:VCALENDAR