BEGIN:VCALENDAR
VERSION:2.0
PRODID:iheid
X-WR-TIMEZONE:Europe/Zurich
BEGIN:VTIMEZONE
TZID:Europe/Zurich
X-LIC-LOCATION:Europe/Zurich
END:VTIMEZONE
BEGIN:VEVENT
UID:69e757e9bb5ec
DTSTART:20220520T100000Z
SEQUENCE:0
TRANSP:OPAQUE
DTEND:20220520T120000Z
LOCATION:Auditorium A2\, IHEID
SUMMARY:Regional Challenges in North-South Research: Implications for Evalu
 ating the Quality of Research Partnerships
CLASS:PUBLIC
DESCRIPTION:Regional Challenges in North-South Research: Implications for E
 valuating the Quality of Research Partnerships by .\n\n\n\nEvent connectio
 n: 
DTSTAMP:20260421T125641Z
END:VEVENT
END:VCALENDAR