BEGIN:VCALENDAR
VERSION:2.0
PRODID:iheid
X-WR-TIMEZONE:Europe/Zurich
BEGIN:VTIMEZONE
TZID:Europe/Zurich
X-LIC-LOCATION:Europe/Zurich
END:VTIMEZONE
BEGIN:VEVENT
UID:69e7b93dcdd79
DTSTART:20221006T130000Z
SEQUENCE:0
TRANSP:OPAQUE
DTEND:20221006T133000Z
LOCATION:No location specified
SUMMARY:Online information session for prospective students
CLASS:PUBLIC
DESCRIPTION:Online information session for prospective students by .\n\n\n\
 nEvent connection: 
DTSTAMP:20260421T195157Z
END:VEVENT
END:VCALENDAR