BEGIN:VCALENDAR
VERSION:2.0
PRODID:iheid
X-WR-TIMEZONE:Europe/Zurich
BEGIN:VTIMEZONE
TZID:Europe/Zurich
X-LIC-LOCATION:Europe/Zurich
END:VTIMEZONE
BEGIN:VEVENT
UID:69e7a097cacdf
DTSTART:20220621T111500Z
SEQUENCE:0
TRANSP:OPAQUE
DTEND:20220621T160000Z
URL:https://us06web.zoom.us/webinar/register/WN_s8AhUiJYQh6msmSe-wHN0w
LOCATION:CAREP Paris\, 12\, rue Raymond Aron 75013 Paris et en ligne
SUMMARY:Les mobilisations islamistes dans tous leurs États
CLASS:PUBLIC
DESCRIPTION:Les mobilisations islamistes dans tous leurs États by .\n\n\n\
 nEvent connection: https://us06web.zoom.us/webinar/register/WN_s8AhUiJYQh6
 msmSe-wHN0w
DTSTAMP:20260421T180647Z
END:VEVENT
END:VCALENDAR