BEGIN:VCALENDAR
VERSION:2.0
PRODID:iheid
X-WR-TIMEZONE:Europe/Zurich
BEGIN:VTIMEZONE
TZID:Europe/Zurich
X-LIC-LOCATION:Europe/Zurich
END:VTIMEZONE
BEGIN:VEVENT
UID:69e8a25579fb7
DTSTART:20220530T163000Z
SEQUENCE:0
TRANSP:OPAQUE
DTEND:20220530T180000Z
LOCATION:Zoom webinar
SUMMARY:Challenges for Women in the International Justice System
CLASS:PUBLIC
DESCRIPTION:Challenges for Women in the International Justice System by Hil
 ary Charlesworth.\n\n\n\nEvent connection: 
DTSTAMP:20260422T122629Z
END:VEVENT
END:VCALENDAR