BEGIN:VCALENDAR
VERSION:2.0
PRODID:iheid
X-WR-TIMEZONE:Europe/Zurich
BEGIN:VTIMEZONE
TZID:Europe/Zurich
X-LIC-LOCATION:Europe/Zurich
END:VTIMEZONE
BEGIN:VEVENT
UID:69ebaa794dfff
DTSTART:20220616T110000Z
SEQUENCE:0
TRANSP:OPAQUE
DTEND:20220617T160000Z
LOCATION:Room S3 and online
SUMMARY:Objects of Expertise II
CLASS:PUBLIC
DESCRIPTION:Objects of Expertise II by various\, see programme.\n\n\n\nEven
 t connection: 
DTSTAMP:20260424T193801Z
END:VEVENT
END:VCALENDAR