BEGIN:VCALENDAR
VERSION:2.0
PRODID:iheid
X-WR-TIMEZONE:Europe/Zurich
BEGIN:VTIMEZONE
TZID:Europe/Zurich
X-LIC-LOCATION:Europe/Zurich
END:VTIMEZONE
BEGIN:VEVENT
UID:69e641fb084d1
DTSTART:20220524T110000Z
SEQUENCE:0
TRANSP:OPAQUE
DTEND:20220524T130000Z
URL:https://www.eventbrite.ch/e/expanding-vaccine-manufacturing-in-lac-a-ro
 admap-to-equitable-access-tickets-335317402377
LOCATION:No location specified
SUMMARY:Expanding vaccine manufacturing in Latin America & the Caribbean: A
  Roadmap to equitable access
CLASS:PUBLIC
DESCRIPTION:Expanding vaccine manufacturing in Latin America &amp\; the Car
 ibbean: A Roadmap to equitable access by .\n\n\n\nEvent connection: https:
 //www.eventbrite.ch/e/expanding-vaccine-manufacturing-in-lac-a-roadmap-to-
 equitable-access-tickets-335317402377
DTSTAMP:20260420T171051Z
END:VEVENT
END:VCALENDAR