BEGIN:VCALENDAR
VERSION:2.0
PRODID:iheid
X-WR-TIMEZONE:Europe/Zurich
BEGIN:VTIMEZONE
TZID:Europe/Zurich
X-LIC-LOCATION:Europe/Zurich
END:VTIMEZONE
BEGIN:VEVENT
UID:69e8e6950e9b9
DTSTART:20220621T110000Z
SEQUENCE:0
TRANSP:OPAQUE
DTEND:20220621T114500Z
URL:https://zoom.us/webinar/register/WN_FfH2bX0HRkun201RRKDOyw
LOCATION:No location specified
SUMMARY:Genre et développement FAQ
CLASS:PUBLIC
DESCRIPTION:Genre et développement FAQ by Liliana Soler.\n\n\n\nEvent conn
 ection: https://zoom.us/webinar/register/WN_FfH2bX0HRkun201RRKDOyw
DTSTAMP:20260422T171741Z
END:VEVENT
END:VCALENDAR