BEGIN:VCALENDAR
VERSION:2.0
PRODID:iheid
X-WR-TIMEZONE:Europe/Zurich
BEGIN:VTIMEZONE
TZID:Europe/Zurich
X-LIC-LOCATION:Europe/Zurich
END:VTIMEZONE
BEGIN:VEVENT
UID:69ecea3a6bf10
DTSTART:20220614T073000Z
SEQUENCE:0
TRANSP:OPAQUE
DTEND:20220614T093000Z
URL:https://iheid.webex.com/iheid/onstage/g.php?MTID=ec6a6b1484b8c8eba7dde3
 a38914f9ec6
LOCATION:Online Thesis Defence via Cisco Webex
SUMMARY:The Non-intervention Principle in Contemporary International Law
CLASS:PUBLIC
DESCRIPTION:The Non-intervention Principle in Contemporary International La
 w by Yilin Wang.\n\n\n\nEvent connection: https://iheid.webex.com/iheid/on
 stage/g.php?MTID=ec6a6b1484b8c8eba7dde3a38914f9ec6
DTSTAMP:20260425T182218Z
END:VEVENT
END:VCALENDAR