BEGIN:VCALENDAR
VERSION:2.0
PRODID:iheid
X-WR-TIMEZONE:Europe/Zurich
BEGIN:VTIMEZONE
TZID:Europe/Zurich
X-LIC-LOCATION:Europe/Zurich
END:VTIMEZONE
BEGIN:VEVENT
UID:69e8e5df7ca7b
DTSTART:20220623T103000Z
SEQUENCE:0
TRANSP:OPAQUE
DTEND:20220623T111500Z
URL:https://zoom.us/webinar/register/WN_ULHodRs9T32rIaLkGoLVkw
LOCATION:No location specified
SUMMARY:Digital Transformation of Governments and Organisations Q&A
CLASS:PUBLIC
DESCRIPTION:Digital Transformation of Governments and Organisations Q&amp\;
 A by Jérôme Duberry\, Jimmye Johnson.\n\n\n\nEvent connection: https://z
 oom.us/webinar/register/WN_ULHodRs9T32rIaLkGoLVkw
DTSTAMP:20260422T171439Z
END:VEVENT
END:VCALENDAR