BEGIN:VCALENDAR
VERSION:2.0
PRODID:iheid
X-WR-TIMEZONE:Europe/Zurich
BEGIN:VTIMEZONE
TZID:Europe/Zurich
X-LIC-LOCATION:Europe/Zurich
END:VTIMEZONE
BEGIN:VEVENT
UID:69e8b20690bee
DTSTART:20220614T103000Z
SEQUENCE:0
TRANSP:OPAQUE
DTEND:20220614T111500Z
URL:https://zoom.us/webinar/register/WN_ohXAS3inQiiuRzAUBeTziQ
LOCATION:No location specified
SUMMARY:International Negotiation & Policy-Making Q&A
CLASS:PUBLIC
DESCRIPTION:International Negotiation &amp\; Policy-Making Q&amp\;A by Juan
 ita Uribe\, Jimmye Johnson.\n\n\n\nEvent connection: https://zoom.us/webin
 ar/register/WN_ohXAS3inQiiuRzAUBeTziQ
DTSTAMP:20260422T133326Z
END:VEVENT
END:VCALENDAR