BEGIN:VCALENDAR
VERSION:2.0
PRODID:iheid
X-WR-TIMEZONE:Europe/Zurich
BEGIN:VTIMEZONE
TZID:Europe/Zurich
X-LIC-LOCATION:Europe/Zurich
END:VTIMEZONE
BEGIN:VEVENT
UID:69e7a0d92fd08
DTSTART:20220613T160000Z
SEQUENCE:0
TRANSP:OPAQUE
DTEND:20220613T183000Z
URL:https://forms.gle/ZmD1oi2fJoKM2aiEA
LOCATION:La Terrasse de la Paix\,&nbsp\;Chem. Eugène-Rigot 2E\, 1202\, Gen
 eva
SUMMARY:Toward a New Dialogue: WTO & Business
CLASS:PUBLIC
DESCRIPTION:Toward a New Dialogue: WTO &amp\; Business by GTP &amp\; Confed
 eration of Swedish Enterprise.\n\n\n\nEvent connection: https://forms.gle/
 ZmD1oi2fJoKM2aiEA
DTSTAMP:20260421T180753Z
END:VEVENT
END:VCALENDAR