BEGIN:VCALENDAR
VERSION:2.0
PRODID:iheid
X-WR-TIMEZONE:Europe/Zurich
BEGIN:VTIMEZONE
TZID:Europe/Zurich
X-LIC-LOCATION:Europe/Zurich
END:VTIMEZONE
BEGIN:VEVENT
UID:69e4e08912dbc
DTSTART:20220616T161500Z
SEQUENCE:0
TRANSP:OPAQUE
DTEND:20220616T180000Z
LOCATION:Maison de la paix\, P5 - Conference Centre\, Ch. Eugène-Rigot 2 -
  Geneva
SUMMARY:Diplomacy and the War in Ukraine
CLASS:PUBLIC
DESCRIPTION:Diplomacy and the War in Ukraine by Co-sponsored hybrid event f
 or Alumnae-i of The Fletcher School and the Geneva Graduate Institute.\n\n
 \n\nEvent connection: 
DTSTAMP:20260419T160249Z
END:VEVENT
END:VCALENDAR