BEGIN:VCALENDAR
VERSION:2.0
PRODID:iheid
X-WR-TIMEZONE:Europe/Zurich
BEGIN:VTIMEZONE
TZID:Europe/Zurich
X-LIC-LOCATION:Europe/Zurich
END:VTIMEZONE
BEGIN:VEVENT
UID:69e8cbc446562
DTSTART:20220707T103000Z
SEQUENCE:0
TRANSP:OPAQUE
DTEND:20220707T111500Z
URL:https://zoom.us/webinar/register/WN_i2oIbM1dRXSY37vTrau3hw
LOCATION:No location specified
SUMMARY:Executiver Master in International Relations Q&A
CLASS:PUBLIC
DESCRIPTION:Executiver Master in International Relations Q&amp\;A by Negar 
 Mansouri\, Jimmye Johnson.\n\n\n\nEvent connection: https://zoom.us/webina
 r/register/WN_i2oIbM1dRXSY37vTrau3hw
DTSTAMP:20260422T152316Z
END:VEVENT
END:VCALENDAR