BEGIN:VCALENDAR
VERSION:2.0
PRODID:iheid
X-WR-TIMEZONE:Europe/Zurich
BEGIN:VTIMEZONE
TZID:Europe/Zurich
X-LIC-LOCATION:Europe/Zurich
END:VTIMEZONE
BEGIN:VEVENT
UID:69e7a0e23baca
DTSTART:20220613T100000Z
SEQUENCE:0
TRANSP:OPAQUE
DTEND:20220613T111500Z
URL:https://iheid.webex.com/iheid/onstage/g.php?MTID=e961a5b73d3533aabe12c6
 a9d609a19b2
LOCATION:No location specified
SUMMARY:Young Professionals Program
CLASS:PUBLIC
DESCRIPTION:Young Professionals Program by .\n\n\n\nEvent connection: https
 ://iheid.webex.com/iheid/onstage/g.php?MTID=e961a5b73d3533aabe12c6a9d609a1
 9b2
DTSTAMP:20260421T180802Z
END:VEVENT
END:VCALENDAR