BEGIN:VCALENDAR
VERSION:2.0
PRODID:iheid
X-WR-TIMEZONE:Europe/Zurich
BEGIN:VTIMEZONE
TZID:Europe/Zurich
X-LIC-LOCATION:Europe/Zurich
END:VTIMEZONE
BEGIN:VEVENT
UID:69e7497f91eae
DTSTART:20220921T101500Z
SEQUENCE:0
TRANSP:OPAQUE
DTEND:20220921T120000Z
LOCATION:Room S8\, Maison de la paix\, Geneva
SUMMARY:Rethinking the Agency of “Governed” Subjects
CLASS:PUBLIC
DESCRIPTION:Rethinking the Agency of “Governed” Subjects by .\n\n\n\nEv
 ent connection: 
DTSTAMP:20260421T115511Z
END:VEVENT
END:VCALENDAR