BEGIN:VCALENDAR
VERSION:2.0
PRODID:iheid
X-WR-TIMEZONE:Europe/Zurich
BEGIN:VTIMEZONE
TZID:Europe/Zurich
X-LIC-LOCATION:Europe/Zurich
END:VTIMEZONE
BEGIN:VEVENT
UID:69e8b21091410
DTSTART:20220707T150000Z
SEQUENCE:0
TRANSP:OPAQUE
DTEND:20220707T154500Z
URL:https://zoom.us/webinar/register/WN_9h73ZrAoTQSE91qA8tMCCA
LOCATION:No location specified
SUMMARY:Decipher Geopolitical Dynamics to Grow your Business
CLASS:PUBLIC
DESCRIPTION:Decipher Geopolitical Dynamics to Grow your Business by Mohamed
  Mahmoud Mohamedou\, Vincent Giolito\, Pauline Boyeaux.\n\n\n\nEvent conne
 ction: https://zoom.us/webinar/register/WN_9h73ZrAoTQSE91qA8tMCCA
DTSTAMP:20260422T133336Z
END:VEVENT
END:VCALENDAR