BEGIN:VCALENDAR
VERSION:2.0
PRODID:iheid
X-WR-TIMEZONE:Europe/Zurich
BEGIN:VTIMEZONE
TZID:Europe/Zurich
X-LIC-LOCATION:Europe/Zurich
END:VTIMEZONE
BEGIN:VEVENT
UID:69e7a0830f0c4
DTSTART:20220705T103000Z
SEQUENCE:0
TRANSP:OPAQUE
DTEND:20220705T113000Z
URL:https://zoom.us/webinar/register/WN_Bo2uRHaFQsW6wvHPGpRFPA
LOCATION:No location specified
SUMMARY:Strategic Climate Litigation: an effective governance tool to addre
 ss climate change?
CLASS:PUBLIC
DESCRIPTION:Strategic Climate Litigation: an effective governance tool to a
 ddress climate change? by Margherita Cornaglia\,  Zaneta Sedilekova.\n\n\n
 \nEvent connection: https://zoom.us/webinar/register/WN_Bo2uRHaFQsW6wvHPGp
 RFPA
DTSTAMP:20260421T180627Z
END:VEVENT
END:VCALENDAR