BEGIN:VCALENDAR
VERSION:2.0
PRODID:iheid
X-WR-TIMEZONE:Europe/Zurich
BEGIN:VTIMEZONE
TZID:Europe/Zurich
X-LIC-LOCATION:Europe/Zurich
END:VTIMEZONE
BEGIN:VEVENT
UID:69e8b2018a6b0
DTSTART:20220711T150000Z
SEQUENCE:0
TRANSP:OPAQUE
DTEND:20220711T154500Z
URL:https://zoom.us/webinar/register/WN_OdGFasxgR1yzAM_R-4Otmg
LOCATION:No location specified
SUMMARY:International Negotiation & Policy-Making Q&A
CLASS:PUBLIC
DESCRIPTION:International Negotiation &amp\; Policy-Making Q&amp\;A by Nega
 r Mansouri\, Jimmye Johnson.\n\n\n\nEvent connection: https://zoom.us/webi
 nar/register/WN_OdGFasxgR1yzAM_R-4Otmg
DTSTAMP:20260422T133321Z
END:VEVENT
END:VCALENDAR