BEGIN:VCALENDAR
VERSION:2.0
PRODID:iheid
X-WR-TIMEZONE:Europe/Zurich
BEGIN:VTIMEZONE
TZID:Europe/Zurich
X-LIC-LOCATION:Europe/Zurich
END:VTIMEZONE
BEGIN:VEVENT
UID:69e7a0ad1bccf
DTSTART:20220721T140000Z
SEQUENCE:0
TRANSP:OPAQUE
DTEND:20220721T164500Z
LOCATION:No location specified
SUMMARY:APSIA Online Grad School Fair
CLASS:PUBLIC
DESCRIPTION:APSIA Online Grad School Fair by .\n\n\n\nEvent connection: 
DTSTAMP:20260421T180709Z
END:VEVENT
END:VCALENDAR