BEGIN:VCALENDAR
VERSION:2.0
PRODID:iheid
X-WR-TIMEZONE:Europe/Zurich
BEGIN:VTIMEZONE
TZID:Europe/Zurich
X-LIC-LOCATION:Europe/Zurich
END:VTIMEZONE
BEGIN:VEVENT
UID:69e6e30abb4db
DTSTART:20220929T150000Z
SEQUENCE:0
TRANSP:OPAQUE
DTEND:20220929T174500Z
LOCATION:No location specified
SUMMARY:APSIA’s Online Graduate School Fair II
CLASS:PUBLIC
DESCRIPTION:APSIA’s Online Graduate School Fair II by .\n\n\n\nEvent conn
 ection: 
DTSTAMP:20260421T043802Z
END:VEVENT
END:VCALENDAR