BEGIN:VCALENDAR
VERSION:2.0
PRODID:iheid
X-WR-TIMEZONE:Europe/Zurich
BEGIN:VTIMEZONE
TZID:Europe/Zurich
X-LIC-LOCATION:Europe/Zurich
END:VTIMEZONE
BEGIN:VEVENT
UID:69e97d711cb3a
DTSTART:20220913T073000Z
SEQUENCE:0
TRANSP:OPAQUE
DTEND:20220914T160000Z
URL:https://docs.google.com/forms/d/e/1FAIpQLSdc7jUjjX0Y_hHZxvwjJ5JJijGVDqe
 jwpJ7O-jydVvaIfd2Nw/viewform?usp=sf_link
LOCATION:Maison de la paix\, Conference Room C1\, Petal 5
SUMMARY:MIGRATION AND BELONGING IN TIMES OF CRISIS: Troubling Transnational
 ism and Home-Making in Latin American Trajectories to/from Europe
CLASS:PUBLIC
DESCRIPTION:MIGRATION AND BELONGING IN TIMES OF CRISIS: Troubling Transnati
 onalism and Home-Making in Latin American Trajectories to/from Europe by V
 alerio Simoni\, Jérémie Voirol\, Elise Hjalmarson.\n\n\n\nEvent connecti
 on: https://docs.google.com/forms/d/e/1FAIpQLSdc7jUjjX0Y_hHZxvwjJ5JJijGVDq
 ejwpJ7O-jydVvaIfd2Nw/viewform?usp=sf_link
DTSTAMP:20260423T040121Z
END:VEVENT
END:VCALENDAR