BEGIN:VCALENDAR
VERSION:2.0
PRODID:iheid
X-WR-TIMEZONE:Europe/Zurich
BEGIN:VTIMEZONE
TZID:Europe/Zurich
X-LIC-LOCATION:Europe/Zurich
END:VTIMEZONE
BEGIN:VEVENT
UID:69e8cb66dadd2
DTSTART:20220803T150000Z
SEQUENCE:0
TRANSP:OPAQUE
DTEND:20220803T154500Z
URL:https://zoom.us/webinar/register/WN_hP4bS7bfR_KqXwR3BldClw
LOCATION:No location specified
SUMMARY:SDG Investing Q&A
CLASS:PUBLIC
DESCRIPTION:SDG Investing Q&amp\;A by Bertrand Gacon\, Dawid Bastiat-Jarosz
 \, Robert Wibberley.\n\n\n\nEvent connection: https://zoom.us/webinar/regi
 ster/WN_hP4bS7bfR_KqXwR3BldClw
DTSTAMP:20260422T152142Z
END:VEVENT
END:VCALENDAR