BEGIN:VCALENDAR
VERSION:2.0
PRODID:iheid
X-WR-TIMEZONE:Europe/Zurich
BEGIN:VTIMEZONE
TZID:Europe/Zurich
X-LIC-LOCATION:Europe/Zurich
END:VTIMEZONE
BEGIN:VEVENT
UID:69e8b159c4432
DTSTART:20220809T103000Z
SEQUENCE:0
TRANSP:OPAQUE
DTEND:20220809T111500Z
URL:https://zoom.us/webinar/register/WN_EMTHlMIHT-Kwgy0ZI5MXnw
LOCATION:No location specified
SUMMARY:Diversity\, Inclusion\, and the Issue of Racism Q&A
CLASS:PUBLIC
DESCRIPTION:Diversity\, Inclusion\, and the Issue of Racism Q&amp\;A by Gui
 llemette Carlucci &amp\; Jimmye Johnson.\n\n\n\nEvent connection: https://
 zoom.us/webinar/register/WN_EMTHlMIHT-Kwgy0ZI5MXnw
DTSTAMP:20260422T133033Z
END:VEVENT
END:VCALENDAR