BEGIN:VCALENDAR
VERSION:2.0
PRODID:iheid
X-WR-TIMEZONE:Europe/Zurich
BEGIN:VTIMEZONE
TZID:Europe/Zurich
X-LIC-LOCATION:Europe/Zurich
END:VTIMEZONE
BEGIN:VEVENT
UID:69e73f4e5b8db
DTSTART:20220921T070000Z
SEQUENCE:0
TRANSP:OPAQUE
DTEND:20220921T100000Z
LOCATION:4th floor of Petal 2\, Maison de la paix\, Geneva
SUMMARY:DAY 3: Research Day
CLASS:PUBLIC
DESCRIPTION:DAY 3: Research Day by .\n\n\n\nEvent connection: 
DTSTAMP:20260421T111142Z
END:VEVENT
END:VCALENDAR