BEGIN:VCALENDAR
VERSION:2.0
PRODID:iheid
X-WR-TIMEZONE:Europe/Zurich
BEGIN:VTIMEZONE
TZID:Europe/Zurich
X-LIC-LOCATION:Europe/Zurich
END:VTIMEZONE
BEGIN:VEVENT
UID:69eae4dfe50d0
DTSTART:20220905T163000Z
SEQUENCE:0
TRANSP:OPAQUE
DTEND:20220905T180000Z
LOCATION:Auditorium A2\, Maison de la paix\, Geneva
SUMMARY:Book launch: Partnerships for Sustainability in Contemporary Global
  Governance
CLASS:PUBLIC
DESCRIPTION:Book launch: Partnerships for Sustainability in Contemporary Gl
 obal Governance by Liliana Andonova\, amongst others\, see programme.\n\n\
 n\nEvent connection: 
DTSTAMP:20260424T053455Z
END:VEVENT
END:VCALENDAR