BEGIN:VCALENDAR
VERSION:2.0
PRODID:iheid
X-WR-TIMEZONE:Europe/Zurich
BEGIN:VTIMEZONE
TZID:Europe/Zurich
X-LIC-LOCATION:Europe/Zurich
END:VTIMEZONE
BEGIN:VEVENT
UID:69e508353d848
DTSTART:20220921T160000Z
SEQUENCE:0
TRANSP:OPAQUE
DTEND:20221024T100000Z
LOCATION:Hall Kogler
SUMMARY:Photo exhibition by Eddy Mottaz
CLASS:PUBLIC
DESCRIPTION:Photo exhibition by Eddy Mottaz by .\n\n\n\nEvent connection: 
DTSTAMP:20260419T185205Z
END:VEVENT
END:VCALENDAR