BEGIN:VCALENDAR
VERSION:2.0
PRODID:iheid
X-WR-TIMEZONE:Europe/Zurich
BEGIN:VTIMEZONE
TZID:Europe/Zurich
X-LIC-LOCATION:Europe/Zurich
END:VTIMEZONE
BEGIN:VEVENT
UID:69e8239d182ea
DTSTART:20221114T173000Z
SEQUENCE:0
TRANSP:OPAQUE
DTEND:20221114T190000Z
LOCATION:Zoom webinar
SUMMARY:Embodiment\, Representation\, and Maternality in International Inst
 itutional Spaces
CLASS:PUBLIC
DESCRIPTION:Embodiment\, Representation\, and Maternality in International 
 Institutional Spaces by Fionnuala Ní Aoláin.\n\n\n\nEvent connection: 
DTSTAMP:20260422T032549Z
END:VEVENT
END:VCALENDAR