BEGIN:VCALENDAR
VERSION:2.0
PRODID:iheid
X-WR-TIMEZONE:Europe/Zurich
BEGIN:VTIMEZONE
TZID:Europe/Zurich
X-LIC-LOCATION:Europe/Zurich
END:VTIMEZONE
BEGIN:VEVENT
UID:69e7bed21ff75
DTSTART:20220930T064500Z
SEQUENCE:0
TRANSP:OPAQUE
DTEND:20220930T180000Z
URL:https://iheid.webex.com/iheid/onstage/g.php?MTID=e470370ef62da53105caa0
 79240616a2e
LOCATION:Auditorium Ivan Pictet\, Maison de la paix\, Geneva
SUMMARY:La légalité internationale/International Legality
CLASS:PUBLIC
DESCRIPTION:La légalité internationale/International Legality by .\n\n\n\
 nEvent connection: https://iheid.webex.com/iheid/onstage/g.php?MTID=e47037
 0ef62da53105caa079240616a2e
DTSTAMP:20260421T201546Z
END:VEVENT
END:VCALENDAR