BEGIN:VCALENDAR
VERSION:2.0
PRODID:iheid
X-WR-TIMEZONE:Europe/Zurich
BEGIN:VTIMEZONE
TZID:Europe/Zurich
X-LIC-LOCATION:Europe/Zurich
END:VTIMEZONE
BEGIN:VEVENT
UID:69e4d0480b9fa
DTSTART:20220927T121500Z
SEQUENCE:0
TRANSP:OPAQUE
DTEND:20220927T134500Z
LOCATION:Room S4\, Maison de la paix\, Geneva
SUMMARY:Gender Gaps at the Academies
CLASS:PUBLIC
DESCRIPTION:Gender Gaps at the Academies by Patricia Funk\, Full Professor 
 at Università della Svizzera italiana.\n\n\n\nEvent connection: 
DTSTAMP:20260419T145328Z
END:VEVENT
END:VCALENDAR