BEGIN:VCALENDAR
VERSION:2.0
PRODID:iheid
X-WR-TIMEZONE:Europe/Zurich
BEGIN:VTIMEZONE
TZID:Europe/Zurich
X-LIC-LOCATION:Europe/Zurich
END:VTIMEZONE
BEGIN:VEVENT
UID:69e7178a4dbf9
DTSTART:20221012T163000Z
SEQUENCE:0
TRANSP:OPAQUE
DTEND:20221012T180000Z
LOCATION:Auditorium A2\, Maison de la paix\, Geneva Graduate Institute
SUMMARY:Community as Rebellion
CLASS:PUBLIC
DESCRIPTION:Community as Rebellion by Lorgia García-Peña\, Tufts Universi
 ty.\n\n\n\nEvent connection: 
DTSTAMP:20260421T082202Z
END:VEVENT
END:VCALENDAR