BEGIN:VCALENDAR
VERSION:2.0
PRODID:iheid
X-WR-TIMEZONE:Europe/Zurich
BEGIN:VTIMEZONE
TZID:Europe/Zurich
X-LIC-LOCATION:Europe/Zurich
END:VTIMEZONE
BEGIN:VEVENT
UID:69eb9fb43246d
DTSTART:20221031T070000Z
SEQUENCE:0
TRANSP:OPAQUE
DTEND:20221104T170000Z
LOCATION:Maison de la paix
SUMMARY:Geneva Peace Week 2022
CLASS:PUBLIC
DESCRIPTION:Geneva Peace Week 2022 by .\n\n\n\nEvent connection: 
DTSTAMP:20260424T185204Z
END:VEVENT
END:VCALENDAR