BEGIN:VCALENDAR
VERSION:2.0
PRODID:iheid
X-WR-TIMEZONE:Europe/Zurich
BEGIN:VTIMEZONE
TZID:Europe/Zurich
X-LIC-LOCATION:Europe/Zurich
END:VTIMEZONE
BEGIN:VEVENT
UID:69e70e7568863
DTSTART:20221115T151500Z
SEQUENCE:0
TRANSP:OPAQUE
DTEND:20221115T170000Z
LOCATION:Room S5\, Geneva Graduate Institute Streamed via Webex Password: 2
 JrcTk9DYx8
SUMMARY:The Meddlers: Sovereignty\, Empire\, and the Birth of Global Econom
 ic Governance
CLASS:PUBLIC
DESCRIPTION:The Meddlers: Sovereignty\, Empire\, and the Birth of Global Ec
 onomic Governance by .\n\n\n\nEvent connection: 
DTSTAMP:20260421T074317Z
END:VEVENT
END:VCALENDAR