BEGIN:VCALENDAR
VERSION:2.0
PRODID:iheid
X-WR-TIMEZONE:Europe/Zurich
BEGIN:VTIMEZONE
TZID:Europe/Zurich
X-LIC-LOCATION:Europe/Zurich
END:VTIMEZONE
BEGIN:VEVENT
UID:69e6708126ec5
DTSTART:20230131T173000Z
SEQUENCE:0
TRANSP:OPAQUE
DTEND:20230131T183000Z
LOCATION:Auditorium Ivan Pictet | Maison de la paix\, Geneva
SUMMARY:Launch of the Geneva Policy Outlook
CLASS:PUBLIC
DESCRIPTION:Launch of the Geneva Policy Outlook by In partnership with the 
 Swiss Confederation\, the Republic and State of Geneva\, the City of Genev
 a and the Fondation pour Genève.\n\n\n\nEvent connection: 
DTSTAMP:20260420T202921Z
END:VEVENT
END:VCALENDAR