BEGIN:VCALENDAR
VERSION:2.0
PRODID:iheid
X-WR-TIMEZONE:Europe/Zurich
BEGIN:VTIMEZONE
TZID:Europe/Zurich
X-LIC-LOCATION:Europe/Zurich
END:VTIMEZONE
BEGIN:VEVENT
UID:69e956e830893
DTSTART:20230223T120000Z
SEQUENCE:0
TRANSP:OPAQUE
DTEND:20230223T130000Z
URL:https://iheid.webex.com/webappng/sites/iheid/meeting/register/3e75cb426
 94e4b1c8edb34e9aa78cae5?ticket=4832534b000000054eed478c8c26a9205577de47135
 41461b0e846cf2f4159cfe81698882f7ec432&timestamp=1675409668907&RGID=r8bd11a
 e104c89c577965332ebc65e110
LOCATION:Auditorium Ivan Pictet B\, Maison de la paix and online
SUMMARY:INVASION OF UKRAINE ONE YEAR ON: IMPLICATIONS FOR GLOBAL AND EUROPE
 AN SECURITY 
CLASS:PUBLIC
DESCRIPTION:INVASION OF UKRAINE ONE YEAR ON: IMPLICATIONS FOR GLOBAL AND EU
 ROPEAN SECURITY  by Keith Krause\, Professor of International Relations an
 d Political Science\, and Director of CCDP.\n\n\n\nEvent connection: https
 ://iheid.webex.com/webappng/sites/iheid/meeting/register/3e75cb42694e4b1c8
 edb34e9aa78cae5?ticket=4832534b000000054eed478c8c26a9205577de4713541461b0e
 846cf2f4159cfe81698882f7ec432&amp\;timestamp=1675409668907&amp\;RGID=r8bd1
 1ae104c89c577965332ebc65e110
DTSTAMP:20260423T011656Z
END:VEVENT
END:VCALENDAR