BEGIN:VCALENDAR
VERSION:2.0
PRODID:iheid
X-WR-TIMEZONE:Europe/Zurich
BEGIN:VTIMEZONE
TZID:Europe/Zurich
X-LIC-LOCATION:Europe/Zurich
END:VTIMEZONE
BEGIN:VEVENT
UID:69e930cb70354
DTSTART:20230530T141500Z
SEQUENCE:0
TRANSP:OPAQUE
DTEND:20230530T160000Z
LOCATION:Room S2\, Maison de la paix\, Geneva Graduate Institute
SUMMARY:Remaking the International in the Digital Age: Algorithmic Reason\,
  Borders\, Thresholds
CLASS:PUBLIC
DESCRIPTION:Remaking the International in the Digital Age: Algorithmic Reas
 on\, Borders\, Thresholds by .\n\n\n\nEvent connection: 
DTSTAMP:20260422T223419Z
END:VEVENT
END:VCALENDAR