BEGIN:VCALENDAR
VERSION:2.0
PRODID:iheid
X-WR-TIMEZONE:Europe/Zurich
BEGIN:VTIMEZONE
TZID:Europe/Zurich
X-LIC-LOCATION:Europe/Zurich
END:VTIMEZONE
BEGIN:VEVENT
UID:69e86916814fd
DTSTART:20181115T120000Z
SEQUENCE:0
TRANSP:OPAQUE
DTEND:20181115T130000Z
LOCATION:No location specified
SUMMARY:Germany's Evolving Role in Global Health
CLASS:PUBLIC
DESCRIPTION:Germany&#039\;s Evolving Role in Global Health by .\n\n\n\nEven
 t connection: 
DTSTAMP:20260422T082214Z
END:VEVENT
END:VCALENDAR