BEGIN:VCALENDAR
VERSION:2.0
PRODID:iheid
X-WR-TIMEZONE:Europe/Zurich
BEGIN:VTIMEZONE
TZID:Europe/Zurich
X-LIC-LOCATION:Europe/Zurich
END:VTIMEZONE
BEGIN:VEVENT
UID:69e97d7179df4
DTSTART:20230222T130000Z
SEQUENCE:0
TRANSP:OPAQUE
DTEND:20230222T140000Z
LOCATION:The fab 4th Floor Petal 2\, Maison de la paix\, Geneva
SUMMARY:Inside Geneva ‘How to make peace’
CLASS:PUBLIC
DESCRIPTION:Inside Geneva ‘How to make peace’ by Inside Geneva Podcast.
 \n\n\n\nEvent connection: 
DTSTAMP:20260423T040121Z
END:VEVENT
END:VCALENDAR