BEGIN:VCALENDAR
VERSION:2.0
PRODID:iheid
X-WR-TIMEZONE:Europe/Zurich
BEGIN:VTIMEZONE
TZID:Europe/Zurich
X-LIC-LOCATION:Europe/Zurich
END:VTIMEZONE
BEGIN:VEVENT
UID:69eb3f9ac2f5b
DTSTART:20230309T173000Z
SEQUENCE:0
TRANSP:OPAQUE
DTEND:20230309T190000Z
LOCATION:Auditorium Ivan Pictet\, Maison de la paix\, Geneva
SUMMARY:Introducing the €uro in Times of Inflation: The Case of Croatia
CLASS:PUBLIC
DESCRIPTION:Introducing the €uro in Times of Inflation: The Case of Croat
 ia by Mr. Boris Vujčić\, Governor - Croatian National Bank.\n\n\n\nEvent
  connection: 
DTSTAMP:20260424T120202Z
END:VEVENT
END:VCALENDAR