BEGIN:VCALENDAR
VERSION:2.0
PRODID:iheid
X-WR-TIMEZONE:Europe/Zurich
BEGIN:VTIMEZONE
TZID:Europe/Zurich
X-LIC-LOCATION:Europe/Zurich
END:VTIMEZONE
BEGIN:VEVENT
UID:69e94105877a6
DTSTART:20230302T170000Z
SEQUENCE:0
TRANSP:OPAQUE
DTEND:20230302T190000Z
LOCATION:Auditorium A2\, Maison de la paix\, Geneva
SUMMARY:The conventional way: Are treaties the best tool to regulate contem
 porary wars?
CLASS:PUBLIC
DESCRIPTION:The conventional way: Are treaties the best tool to regulate co
 ntemporary wars? by Dr. Annyssa Bellal &amp\; Dr. Stuart Casey-Maslen.\n\n
 \n\nEvent connection: 
DTSTAMP:20260422T234333Z
END:VEVENT
END:VCALENDAR