BEGIN:VCALENDAR
VERSION:2.0
PRODID:iheid
X-WR-TIMEZONE:Europe/Zurich
BEGIN:VTIMEZONE
TZID:Europe/Zurich
X-LIC-LOCATION:Europe/Zurich
END:VTIMEZONE
BEGIN:VEVENT
UID:69e63ef3dc69e
DTSTART:20230525T103000Z
SEQUENCE:0
TRANSP:OPAQUE
DTEND:20230525T114500Z
LOCATION:Room S11\, Maison de la paix\, Geneva
SUMMARY:\"Naked Girls and Bare Shelves\". Transformations of Heteronormativ
 e Gaze in Late State-Socialist Poland
CLASS:PUBLIC
DESCRIPTION:&quot\;Naked Girls and Bare Shelves&quot\;. Transformations of 
 Heteronormative Gaze in Late State-Socialist Poland by Anna Dobrowolska\, 
 European University Institute\, Florence.\n\n\n\nEvent connection: 
DTSTAMP:20260420T165755Z
END:VEVENT
END:VCALENDAR