BEGIN:VCALENDAR
VERSION:2.0
PRODID:iheid
X-WR-TIMEZONE:Europe/Zurich
BEGIN:VTIMEZONE
TZID:Europe/Zurich
X-LIC-LOCATION:Europe/Zurich
END:VTIMEZONE
BEGIN:VEVENT
UID:69e93c46e3bf6
DTSTART:20230308T170000Z
SEQUENCE:0
TRANSP:OPAQUE
DTEND:20230308T183000Z
LOCATION:Auditorium Ivan Pictet | Maison de la paix\, Geneva
SUMMARY:THE GENEVA GENDER DEBATE 2023
CLASS:PUBLIC
DESCRIPTION:THE GENEVA GENDER DEBATE 2023 by In partnership with the Intern
 ational Gender Champions.\n\n\n\nEvent connection: 
DTSTAMP:20260422T232318Z
END:VEVENT
END:VCALENDAR