BEGIN:VCALENDAR
VERSION:2.0
PRODID:iheid
X-WR-TIMEZONE:Europe/Zurich
BEGIN:VTIMEZONE
TZID:Europe/Zurich
X-LIC-LOCATION:Europe/Zurich
END:VTIMEZONE
BEGIN:VEVENT
UID:69e7330cd00fd
DTSTART:20180925T141500Z
SEQUENCE:0
TRANSP:OPAQUE
DTEND:20180925T160000Z
LOCATION:Room S5\, Maison de la Paix\, Geneva
SUMMARY:Gangs\, Gangsters and Ganglands: towards a global comparative ethno
 graphy
CLASS:PUBLIC
DESCRIPTION:Gangs\, Gangsters and Ganglands: towards a global comparative e
 thnography by Dennis Rodgers - Research Professor\, The Graduate Institute
 .\n\n\n\nEvent connection: 
DTSTAMP:20260421T101924Z
END:VEVENT
END:VCALENDAR