BEGIN:VCALENDAR
VERSION:2.0
PRODID:iheid
X-WR-TIMEZONE:Europe/Zurich
BEGIN:VTIMEZONE
TZID:Europe/Zurich
X-LIC-LOCATION:Europe/Zurich
END:VTIMEZONE
BEGIN:VEVENT
UID:69e833c06bc95
DTSTART:20230309T093000Z
SEQUENCE:0
TRANSP:OPAQUE
DTEND:20230309T153000Z
LOCATION:No location specified
SUMMARY:Enabling the Youth for Just Transitions
CLASS:PUBLIC
DESCRIPTION:Enabling the Youth for Just Transitions by AHCD\; UNRISD.\n\n\n
 \nEvent connection: 
DTSTAMP:20260422T043440Z
END:VEVENT
END:VCALENDAR