BEGIN:VCALENDAR
VERSION:2.0
PRODID:iheid
X-WR-TIMEZONE:Europe/Zurich
BEGIN:VTIMEZONE
TZID:Europe/Zurich
X-LIC-LOCATION:Europe/Zurich
END:VTIMEZONE
BEGIN:VEVENT
UID:69e90790198a7
DTSTART:20230309T171500Z
SEQUENCE:0
TRANSP:OPAQUE
DTEND:20230309T190000Z
LOCATION:Room S2 | Maison de la paix\, Geneva Graduate Institute
SUMMARY:Reproductive Rights\, Sterilization and Coercion
CLASS:PUBLIC
DESCRIPTION:Reproductive Rights\, Sterilization and Coercion by .\n\n\n\nEv
 ent connection: 
DTSTAMP:20260422T193824Z
END:VEVENT
END:VCALENDAR