BEGIN:VCALENDAR
VERSION:2.0
PRODID:iheid
X-WR-TIMEZONE:Europe/Zurich
BEGIN:VTIMEZONE
TZID:Europe/Zurich
X-LIC-LOCATION:Europe/Zurich
END:VTIMEZONE
BEGIN:VEVENT
UID:69eb3fcb26274
DTSTART:20230307T113000Z
SEQUENCE:0
TRANSP:OPAQUE
DTEND:20230307T123000Z
URL:https://iheid.webex.com/weblink/register/rb5fe06b1106892c0f5f15d7c96e31
 c3a
LOCATION:Room S5\, Maison de la paix\, Geneva
SUMMARY:LEAVING GENEVA TO INFILTRATE ELEPHANT POACHING?
CLASS:PUBLIC
DESCRIPTION:LEAVING GENEVA TO INFILTRATE ELEPHANT POACHING? by .\n\n\n\nEve
 nt connection: https://iheid.webex.com/weblink/register/rb5fe06b1106892c0f
 5f15d7c96e31c3a
DTSTAMP:20260424T120251Z
END:VEVENT
END:VCALENDAR