BEGIN:VCALENDAR
VERSION:2.0
PRODID:iheid
X-WR-TIMEZONE:Europe/Zurich
BEGIN:VTIMEZONE
TZID:Europe/Zurich
X-LIC-LOCATION:Europe/Zurich
END:VTIMEZONE
BEGIN:VEVENT
UID:69e8f310064f3
DTSTART:20230315T140000Z
SEQUENCE:0
TRANSP:OPAQUE
DTEND:20230315T153000Z
LOCATION:Le Fab\, Petal 2 4th Floor\, Maison de la paix\, Geneva
SUMMARY:Working in Conflict Zones:  A conversation with Kevin Merkelz
CLASS:PUBLIC
DESCRIPTION:Working in Conflict Zones:  A conversation with Kevin Merkelz b
 y .\n\n\n\nEvent connection: 
DTSTAMP:20260422T181056Z
END:VEVENT
END:VCALENDAR