BEGIN:VCALENDAR
VERSION:2.0
PRODID:iheid
X-WR-TIMEZONE:Europe/Zurich
BEGIN:VTIMEZONE
TZID:Europe/Zurich
X-LIC-LOCATION:Europe/Zurich
END:VTIMEZONE
BEGIN:VEVENT
UID:69e83685dc042
DTSTART:20230309T080000Z
SEQUENCE:0
TRANSP:OPAQUE
DTEND:20230309T090000Z
LOCATION:Auditorium A2\, Maison de la paix\, and online
SUMMARY:PUBLIC EVENT - Enabling the Youth for Just Transitions: The Way Ahe
 ad
CLASS:PUBLIC
DESCRIPTION:PUBLIC EVENT - Enabling the Youth for Just Transitions: The Way
  Ahead by Frank Siebern-Thomas\; Agata Meysner.\n\n\n\nEvent connection: 
DTSTAMP:20260422T044629Z
END:VEVENT
END:VCALENDAR